BEGIN:VCALENDAR
VERSION:2.0
PRODID:-//wp-events-plugin.com//7.2.3.1//EN
TZID:America/Chicago
X-WR-TIMEZONE:America/Chicago
BEGIN:VEVENT
UID:191@runbeerrepeat.com
DTSTART;TZID=America/Chicago:20210701T183000
DTEND;TZID=America/Chicago:20210701T203000
DTSTAMP:20210618T195518Z
URL:https://runbeerrepeat.com/events/july-1st-run/
SUMMARY:July 1st Run
DESCRIPTION:Our run for July 1st will be from Forgotten Star Brewery in Fri
 dley.
CATEGORIES:Club Runs
LOCATION:Forgotten Star Brewing\, 38 Northern Stacks Dr\, Fridley\, MN\, 55
 421\, United States
X-APPLE-STRUCTURED-LOCATION;VALUE=URI;X-ADDRESS=38 Northern Stacks Dr\, Fri
 dley\, MN\, 55421\, United States;X-APPLE-RADIUS=100;X-TITLE=Forgotten Sta
 r Brewing:geo:0,0
END:VEVENT
BEGIN:VTIMEZONE
TZID:America/Chicago
X-LIC-LOCATION:America/Chicago
BEGIN:DAYLIGHT
DTSTART:20210314T030000
TZOFFSETFROM:-0600
TZOFFSETTO:-0500
TZNAME:CDT
END:DAYLIGHT
END:VTIMEZONE
END:VCALENDAR