BEGIN:VCALENDAR
VERSION:2.0
PRODID:-//wp-events-plugin.com//7.2.3.1//EN
TZID:America/Chicago
X-WR-TIMEZONE:America/Chicago
BEGIN:VEVENT
UID:175@runbeerrepeat.com
DTSTART;TZID=America/Chicago:20200702T190000
DTEND;TZID=America/Chicago:20200702T210000
DTSTAMP:20200629T170537Z
URL:https://runbeerrepeat.com/events/july-2nd-gorunthenbeerrepeat/
SUMMARY:July 2nd #GoRunThenBeerRepeat
DESCRIPTION:Go for a run on your own then join us at Hyland Play Area\, Jan
 's Place Shelter/Reservation Area.\n\nMap to Jan's Place\n\n\nWe will be h
 anging out in a grassy area near Jan's Place shelter at Hyland Play Area. 
 \n\nJoin us at 7pm after your run. This is a 100% bring your own event.\n\
 nPlease review our current COVID-19 policies. You must either RSVP for the
  event\, or check in for attendance to allow us a way to contract trace in
  the event of someone coming down with the virus.
CATEGORIES:Club Runs
LOCATION:Hyland Play Area\, Jan's Place\, 10145 E Bush Lake Rd\, Bloomingto
 n\, MN\, 55438\, United States
X-APPLE-STRUCTURED-LOCATION;VALUE=URI;X-ADDRESS=10145 E Bush Lake Rd\, Bloo
 mington\, MN\, 55438\, United States;X-APPLE-RADIUS=100;X-TITLE=Hyland Pla
 y Area\, Jan's Place:geo:0,0
END:VEVENT
BEGIN:VTIMEZONE
TZID:America/Chicago
X-LIC-LOCATION:America/Chicago
BEGIN:DAYLIGHT
DTSTART:20200308T030000
TZOFFSETFROM:-0600
TZOFFSETTO:-0500
TZNAME:CDT
END:DAYLIGHT
END:VTIMEZONE
END:VCALENDAR