BEGIN:VCALENDAR
VERSION:2.0
PRODID:-//wp-events-plugin.com//7.2.3.1//EN
TZID:America/Chicago
X-WR-TIMEZONE:America/Chicago
BEGIN:VEVENT
UID:4@runbeerrepeat.com
DTSTART;TZID=America/Chicago:20140730T180000
DTEND;TZID=America/Chicago:20140730T193000
DTSTAMP:20140730T011908Z
URL:https://runbeerrepeat.com/events/july-30-run/
SUMMARY:July 30 Run at Bauhaus Brew Labs
DESCRIPTION:Join us for for our next club run on July 30! Join us for a ru
 n starting and ending at one of NE Minneapolis' newest breweries\, Bauhaus
  Brew Labs!
CATEGORIES:Club Runs
LOCATION:Bauhaus Brew Labs\, 1315 Tyler Street NE\, Minneapolis\, MN\, 5541
 3\, United States
GEO:45.0011886;-93.24606699999998
X-APPLE-STRUCTURED-LOCATION;VALUE=URI;X-ADDRESS=1315 Tyler Street NE\, Minn
 eapolis\, MN\, 55413\, United States;X-APPLE-RADIUS=100;X-TITLE=Bauhaus Br
 ew Labs:geo:45.0011886,-93.24606699999998
END:VEVENT
BEGIN:VTIMEZONE
TZID:America/Chicago
X-LIC-LOCATION:America/Chicago
BEGIN:DAYLIGHT
DTSTART:20140309T030000
TZOFFSETFROM:-0600
TZOFFSETTO:-0500
TZNAME:CDT
END:DAYLIGHT
END:VTIMEZONE
END:VCALENDAR