BEGIN:VCALENDAR
VERSION:2.0
PRODID:-//wp-events-plugin.com//7.2.3.1//EN
TZID:America/Chicago
X-WR-TIMEZONE:America/Chicago
BEGIN:VEVENT
UID:147@runbeerrepeat.com
DTSTART;TZID=America/Chicago:20190704T130000
DTEND;TZID=America/Chicago:20190704T160000
DTSTAMP:20190618T150523Z
URL:https://runbeerrepeat.com/events/july-4th-run-bottle-share/
SUMMARY:July 4th Run/Bottle Share
DESCRIPTION:July 4th is officially a running day for us! We're meeting at D
 ave and Audrey's house in Eagan earlier in the day for a run and a casual 
 bottle share. \n\nBring a snack and a bottle of something to share. The be
 er doesn't have to be something super rare or unusual\, just bring somethi
 ng you have been wanting to try or something that looks interesting!\n\nFo
 r privacy reasons\, we are not publishing the exact address. RSVP here for
  the exact address but we are very close to the corner of 35E and Cliff Ro
 ad.\n\nPS: July 4th is Audrey's birthday so make sure to wish her a Happy 
 Birthday!
CATEGORIES:Club Runs
END:VEVENT
BEGIN:VTIMEZONE
TZID:America/Chicago
X-LIC-LOCATION:America/Chicago
BEGIN:DAYLIGHT
DTSTART:20190310T030000
TZOFFSETFROM:-0600
TZOFFSETTO:-0500
TZNAME:CDT
END:DAYLIGHT
END:VTIMEZONE
END:VCALENDAR