BEGIN:VCALENDAR
VERSION:2.0
PRODID:-//wp-events-plugin.com//7.2.3.1//EN
TZID:America/Chicago
X-WR-TIMEZONE:America/Chicago
BEGIN:VEVENT
UID:52@runbeerrepeat.com
DTSTART;TZID=America/Chicago:20160707T183000
DTEND;TZID=America/Chicago:20160707T200000
DTSTAMP:20160614T170220Z
URL:https://runbeerrepeat.com/events/july-7th-run/
SUMMARY:July 7th Run
DESCRIPTION:Join us for our 1st run in July at Wabasha Brewing in St. Paul.
   
CATEGORIES:Club Runs
LOCATION:Wabasha Brewing\, 429 Wabasha St\, St Paul\, MN\, 55107\, United S
 tates
GEO:44.9329546;-93.08471829999996
X-APPLE-STRUCTURED-LOCATION;VALUE=URI;X-ADDRESS=429 Wabasha St\, St Paul\, 
 MN\, 55107\, United States;X-APPLE-RADIUS=100;X-TITLE=Wabasha Brewing:geo:
 44.9329546,-93.08471829999996
END:VEVENT
BEGIN:VTIMEZONE
TZID:America/Chicago
X-LIC-LOCATION:America/Chicago
BEGIN:DAYLIGHT
DTSTART:20160313T030000
TZOFFSETFROM:-0600
TZOFFSETTO:-0500
TZNAME:CDT
END:DAYLIGHT
END:VTIMEZONE
END:VCALENDAR