BEGIN:VCALENDAR
VERSION:2.0
PRODID:-//wp-events-plugin.com//7.2.3.1//EN
TZID:America/Chicago
X-WR-TIMEZONE:America/Chicago
BEGIN:VEVENT
UID:248@runbeerrepeat.com
DTSTART;TZID=America/Chicago:20230615T182000
DTEND;TZID=America/Chicago:20230615T213000
DTSTAMP:20221231T012001Z
URL:https://runbeerrepeat.com/events/june-15th-run-at-clutch-brewing/
SUMMARY:June 15th run at Clutch Brewing
DESCRIPTION:Join us in St. Paul at Clutch Brewing for our 2nd June run. The
  group meets at 6:20 near the front of the brewery\, then takes off for a 
 30 minute run or walk at 6:30. We will head out for 15 minutes\, then turn
  around and head back to the brewery to enjoy some beers together! All pac
 es are welcome! We'll be sending off our members who are running the Grand
 ma's half and full marathons.
CATEGORIES:Club Runs
LOCATION:Clutch Brewing\, 928 7th St W #201\, St. Paul\, MN\, 55102\, Unite
 d States
GEO:44.9287047;-93.12476609999999
X-APPLE-STRUCTURED-LOCATION;VALUE=URI;X-ADDRESS=928 7th St W #201\, St. Pau
 l\, MN\, 55102\, United States;X-APPLE-RADIUS=100;X-TITLE=Clutch Brewing:g
 eo:44.9287047,-93.12476609999999
END:VEVENT
BEGIN:VTIMEZONE
TZID:America/Chicago
X-LIC-LOCATION:America/Chicago
BEGIN:DAYLIGHT
DTSTART:20230312T030000
TZOFFSETFROM:-0600
TZOFFSETTO:-0500
TZNAME:CDT
END:DAYLIGHT
END:VTIMEZONE
END:VCALENDAR