BEGIN:VCALENDAR
VERSION:2.0
PRODID:-//wp-events-plugin.com//7.2.3.1//EN
TZID:America/Chicago
X-WR-TIMEZONE:America/Chicago
BEGIN:VEVENT
UID:51@runbeerrepeat.com
DTSTART;TZID=America/Chicago:20160616T183000
DTEND;TZID=America/Chicago:20160616T200000
DTSTAMP:20160523T205335Z
URL:https://runbeerrepeat.com/events/june-16th-run/
SUMMARY:June 16th Run
DESCRIPTION:Join us for our 2nd run in June at Dark Horse Bar and Eatery in
  lowertown St. Paul.  We'll go for a run along the river\, take in the St
 . Paul skyline\, and head back for some food and craft beer.  This will b
 e the last run for some of our club members who will be running Grandma's 
 Marathon a few days later!
CATEGORIES:Club Runs
LOCATION:Dark Horse Bar &amp\; Eatery\, 250 E 7th St\, St. Paul\, MN\, 5510
 1\, United States
GEO:44.95095190000001;-93.08815140000002
X-APPLE-STRUCTURED-LOCATION;VALUE=URI;X-ADDRESS=250 E 7th St\, St. Paul\, M
 N\, 55101\, United States;X-APPLE-RADIUS=100;X-TITLE=Dark Horse Bar & Eate
 ry:geo:44.95095190000001,-93.08815140000002
END:VEVENT
BEGIN:VTIMEZONE
TZID:America/Chicago
X-LIC-LOCATION:America/Chicago
BEGIN:DAYLIGHT
DTSTART:20160313T030000
TZOFFSETFROM:-0600
TZOFFSETTO:-0500
TZNAME:CDT
END:DAYLIGHT
END:VTIMEZONE
END:VCALENDAR