BEGIN:VCALENDAR
VERSION:2.0
PRODID:-//wp-events-plugin.com//7.2.3.1//EN
TZID:America/Chicago
X-WR-TIMEZONE:America/Chicago
BEGIN:VEVENT
UID:190@runbeerrepeat.com
DTSTART;TZID=America/Chicago:20210617T183000
DTEND;TZID=America/Chicago:20210617T203000
DTSTAMP:20210614T210925Z
URL:https://runbeerrepeat.com/events/june-17th-run/
SUMMARY:June 17th Run
DESCRIPTION:Our run for June 17th will be from Clutch in St Paul!
CATEGORIES:Club Runs
LOCATION:Clutch Brewing\, 928 7th St W #201\, St. Paul\, MN\, 55102\, Unite
 d States
GEO:44.9287047;-93.12476609999999
X-APPLE-STRUCTURED-LOCATION;VALUE=URI;X-ADDRESS=928 7th St W #201\, St. Pau
 l\, MN\, 55102\, United States;X-APPLE-RADIUS=100;X-TITLE=Clutch Brewing:g
 eo:44.9287047,-93.12476609999999
END:VEVENT
BEGIN:VTIMEZONE
TZID:America/Chicago
X-LIC-LOCATION:America/Chicago
BEGIN:DAYLIGHT
DTSTART:20210314T030000
TZOFFSETFROM:-0600
TZOFFSETTO:-0500
TZNAME:CDT
END:DAYLIGHT
END:VTIMEZONE
END:VCALENDAR