BEGIN:VCALENDAR
VERSION:2.0
PRODID:-//wp-events-plugin.com//7.2.3.1//EN
TZID:America/Chicago
X-WR-TIMEZONE:America/Chicago
BEGIN:VEVENT
UID:173@runbeerrepeat.com
DTSTART;TZID=America/Chicago:20200618T190000
DTEND;TZID=America/Chicago:20200618T210000
DTSTAMP:20200615T190947Z
URL:https://runbeerrepeat.com/events/june-18th-gorunthenbeerrepeat/
SUMMARY:June 18th #GoRunThenBeerRepeat
DESCRIPTION:Go for a run on your own then join us at the Mendota Heights Tr
 ailhead to Big Rivers Regional Trail in Mendota Heights.\n\nPark Details\n
 \nIf the parking lot is full\, it's common to park on the shoulder of Sibl
 ey Memorial Highway.\n\nJoin us at 7pm after your run. This is a 100% brin
 g your own event.\n\nPlease review our current COVID-19 policies. You must
  either RSVP for the event\, or check in for attendance to allow us a way 
 to contract trace in the event of someone coming down with the virus.
CATEGORIES:Club Runs
LOCATION:Big Rivers Regional Trail\, 1498 Mendota Heights Road\, Mendota He
 ights\, MN\, United States
X-APPLE-STRUCTURED-LOCATION;VALUE=URI;X-ADDRESS=1498 Mendota Heights Road\,
  Mendota Heights\, MN\, United States;X-APPLE-RADIUS=100;X-TITLE=Big River
 s Regional Trail:geo:0,0
END:VEVENT
BEGIN:VTIMEZONE
TZID:America/Chicago
X-LIC-LOCATION:America/Chicago
BEGIN:DAYLIGHT
DTSTART:20200308T030000
TZOFFSETFROM:-0600
TZOFFSETTO:-0500
TZNAME:CDT
END:DAYLIGHT
END:VTIMEZONE
END:VCALENDAR