BEGIN:VCALENDAR
VERSION:2.0
PRODID:-//wp-events-plugin.com//7.2.3.1//EN
TZID:America/Chicago
X-WR-TIMEZONE:America/Chicago
BEGIN:VEVENT
UID:247@runbeerrepeat.com
DTSTART;TZID=America/Chicago:20230601T182000
DTEND;TZID=America/Chicago:20230601T213000
DTSTAMP:20221231T011717Z
URL:https://runbeerrepeat.com/events/june-1st-run-at-steel-toe-brewing/
SUMMARY:June 1st run at Steel Toe Brewing
DESCRIPTION:Join us in St Louis Park at Steel Toe Brewing for our 1st June 
 run. The group meets at 6:20 near the front of the brewery\, then takes of
 f for a 30 minute run or walk at 6:30. We will head out for 15 minutes\, t
 hen turn around and head back to the brewery to enjoy some beers together!
  All paces are welcome!
CATEGORIES:Club Runs
LOCATION:Steel Toe Brewing\, 4848 W 35th St\, St Louis Park\, MN\, 55416\, 
 United States
GEO:44.9408006;-93.34143599999999
X-APPLE-STRUCTURED-LOCATION;VALUE=URI;X-ADDRESS=4848 W 35th St\, St Louis P
 ark\, MN\, 55416\, United States;X-APPLE-RADIUS=100;X-TITLE=Steel Toe Brew
 ing:geo:44.9408006,-93.34143599999999
END:VEVENT
BEGIN:VTIMEZONE
TZID:America/Chicago
X-LIC-LOCATION:America/Chicago
BEGIN:DAYLIGHT
DTSTART:20230312T030000
TZOFFSETFROM:-0600
TZOFFSETTO:-0500
TZNAME:CDT
END:DAYLIGHT
END:VTIMEZONE
END:VCALENDAR