BEGIN:VCALENDAR
VERSION:2.0
PRODID:-//wp-events-plugin.com//7.2.3.1//EN
TZID:America/Chicago
X-WR-TIMEZONE:America/Chicago
BEGIN:VEVENT
UID:1@runbeerrepeat.com
DTSTART;TZID=America/Chicago:20140629T103000
DTEND;TZID=America/Chicago:20140629T123000
DTSTAMP:20140604T001409Z
URL:https://runbeerrepeat.com/events/june-29-club-run/
SUMMARY:June 29 Club Run
DESCRIPTION:Come join us for a club run in St Paul!  We will be starting on
  the east side of Summit Avenue at Cochran Park. 
CATEGORIES:Club Runs
LOCATION:Cochran Park\, 375 Summit Ave\, St Paul\, MN\, 55102\, United Stat
 es
GEO:44.943073;-93.11565889999997
X-APPLE-STRUCTURED-LOCATION;VALUE=URI;X-ADDRESS=375 Summit Ave\, St Paul\, 
 MN\, 55102\, United States;X-APPLE-RADIUS=100;X-TITLE=Cochran Park:geo:44.
 943073,-93.11565889999997
END:VEVENT
BEGIN:VTIMEZONE
TZID:America/Chicago
X-LIC-LOCATION:America/Chicago
BEGIN:DAYLIGHT
DTSTART:20140309T030000
TZOFFSETFROM:-0600
TZOFFSETTO:-0500
TZNAME:CDT
END:DAYLIGHT
END:VTIMEZONE
END:VCALENDAR