BEGIN:VCALENDAR
VERSION:2.0
PRODID:-//wp-events-plugin.com//7.2.3.1//EN
TZID:America/Chicago
X-WR-TIMEZONE:America/Chicago
BEGIN:VEVENT
UID:49@runbeerrepeat.com
DTSTART;TZID=America/Chicago:20160602T183000
DTEND;TZID=America/Chicago:20160602T200000
DTSTAMP:20160512T183017Z
URL:https://runbeerrepeat.com/events/june-2nd-run/
SUMMARY:June 2nd Run
DESCRIPTION:Join us for our 1st Thursday of the month run at InBound Brew C
 o. in Minneapolis.
CATEGORIES:Club Runs
LOCATION:InBound Brew Co\, 701 N 5th St\, Minneapolis\, MN\, 55401\, United
  States
GEO:44.985554;-93.28155300000003
X-APPLE-STRUCTURED-LOCATION;VALUE=URI;X-ADDRESS=701 N 5th St\, Minneapolis\
 , MN\, 55401\, United States;X-APPLE-RADIUS=100;X-TITLE=InBound Brew Co:ge
 o:44.985554,-93.28155300000003
END:VEVENT
BEGIN:VTIMEZONE
TZID:America/Chicago
X-LIC-LOCATION:America/Chicago
BEGIN:DAYLIGHT
DTSTART:20160313T030000
TZOFFSETFROM:-0600
TZOFFSETTO:-0500
TZNAME:CDT
END:DAYLIGHT
END:VTIMEZONE
END:VCALENDAR