BEGIN:VCALENDAR
VERSION:2.0
PRODID:-//wp-events-plugin.com//7.2.3.1//EN
TZID:America/Chicago
X-WR-TIMEZONE:America/Chicago
BEGIN:VEVENT
UID:24@runbeerrepeat.com
DTSTART;TZID=America/Chicago:20150604T183000
DTEND;TZID=America/Chicago:20150604T200000
DTSTAMP:20150522T161757Z
URL:https://runbeerrepeat.com/events/june-4th-run/
SUMMARY:June 4th Run
DESCRIPTION:Our 1st Thursday of the month run. We will be running at Sweene
 y's Saloon in St Paul.
CATEGORIES:Club Runs
LOCATION:Sweeney's Saloon\, 96 Dale Street N\, St Paul\, MN\, 55102\, Unite
 d States
GEO:44.9442404;-93.12600199999997
X-APPLE-STRUCTURED-LOCATION;VALUE=URI;X-ADDRESS=96 Dale Street N\, St Paul\
 , MN\, 55102\, United States;X-APPLE-RADIUS=100;X-TITLE=Sweeney's Saloon:g
 eo:44.9442404,-93.12600199999997
END:VEVENT
BEGIN:VTIMEZONE
TZID:America/Chicago
X-LIC-LOCATION:America/Chicago
BEGIN:DAYLIGHT
DTSTART:20150308T030000
TZOFFSETFROM:-0600
TZOFFSETTO:-0500
TZNAME:CDT
END:DAYLIGHT
END:VTIMEZONE
END:VCALENDAR