BEGIN:VCALENDAR
VERSION:2.0
PRODID:-//wp-events-plugin.com//7.2.3.1//EN
TZID:America/Chicago
X-WR-TIMEZONE:America/Chicago
BEGIN:VEVENT
UID:269@runbeerrepeat.com
DTSTART;TZID=America/Chicago:20240104T182000
DTEND;TZID=America/Chicago:20240104T203000
DTSTAMP:20231220T010344Z
URL:https://runbeerrepeat.com/events/lakes-legends-brewing-company-on-thur
 sday-january-4th/
SUMMARY:Bald Man Brewing on Thursday January 4th
DESCRIPTION:Join us in Eagan at Bald Man Brewing for our 1st January run. W
 e had to change the location because Lakes and Legends will be permanently
  closed. The group meets at 6:20 near the front of the brewery. We head ou
 t at 6:30 for a run or walk for 15 minutes\, then turn around and come bac
 k to socialize and drink some delicious beverages.  All running or walkin
 g paces are welcome! Reflective gear and lights are highly recommended.
CATEGORIES:Club Runs
LOCATION:Bald Man Brewing\, 2020 Silver Bell Rd\, Eagan\, MN\, 55122\, Unit
 ed States
X-APPLE-STRUCTURED-LOCATION;VALUE=URI;X-ADDRESS=2020 Silver Bell Rd\, Eagan
 \, MN\, 55122\, United States;X-APPLE-RADIUS=100;X-TITLE=Bald Man Brewing:
 geo:0,0
END:VEVENT
BEGIN:VTIMEZONE
TZID:America/Chicago
X-LIC-LOCATION:America/Chicago
BEGIN:STANDARD
DTSTART:20231105T010000
TZOFFSETFROM:-0500
TZOFFSETTO:-0600
TZNAME:CST
END:STANDARD
END:VTIMEZONE
END:VCALENDAR