BEGIN:VCALENDAR
VERSION:2.0
PRODID:-//wp-events-plugin.com//7.2.3.1//EN
TZID:America/Chicago
X-WR-TIMEZONE:America/Chicago
BEGIN:VEVENT
UID:281@runbeerrepeat.com
DTSTART;TZID=America/Chicago:20240530T182000
DTEND;TZID=America/Chicago:20240530T203000
DTSTAMP:20240529T220650Z
URL:https://runbeerrepeat.com/events/lift-bridge-brewing-on-thursday-may-3
 0th/
SUMMARY:Lift Bridge Brewing (after Lowell Park) on Thursday May 30th
DESCRIPTION:Join us in Stillwater at Lift Bridge Brewing for our 3rd May ru
 n. UPDATE: we will meet at Lowell Park to run\, and then go to the Brewery
  after. Lowell Park\, 201 Water St N\, Stillwater\, MN 55082\n\nWe head ou
 t at 6:30 for a run or walk for 15 minutes\, then turn around and come bac
 k to socialize and drink some delicious beverages.  All running or walkin
 g paces are welcome!
CATEGORIES:Club Runs
LOCATION:Lift Bridge Brewing\, 1900 Tower Dr W\, Stillwater\, MN\, 55082\, 
 United States
X-APPLE-STRUCTURED-LOCATION;VALUE=URI;X-ADDRESS=1900 Tower Dr W\, Stillwate
 r\, MN\, 55082\, United States;X-APPLE-RADIUS=100;X-TITLE=Lift Bridge Brew
 ing:geo:0,0
END:VEVENT
BEGIN:VTIMEZONE
TZID:America/Chicago
X-LIC-LOCATION:America/Chicago
BEGIN:DAYLIGHT
DTSTART:20240310T030000
TZOFFSETFROM:-0600
TZOFFSETTO:-0500
TZNAME:CDT
END:DAYLIGHT
END:VTIMEZONE
END:VCALENDAR