BEGIN:VCALENDAR
VERSION:2.0
PRODID:-//wp-events-plugin.com//7.2.3.1//EN
TZID:America/Chicago
X-WR-TIMEZONE:America/Chicago
BEGIN:VEVENT
UID:307@runbeerrepeat.com
DTSTART;TZID=America/Chicago:20250515T063000
DTEND;TZID=America/Chicago:20250515T190000
DTSTAMP:20250223T223831Z
URL:https://runbeerrepeat.com/events/ltd-brewing/
SUMMARY:LTD Brewing
DESCRIPTION:Join us at LTD Brewing in Hopkins for an awesome run! Come join
  us for a 30-minute out-and-back run\, followed by some great beer! We wil
 l meet at 6:20pm in the front of the facility and will start our run at 6:
 30 sharp so please plan to get there and parked on time. After our 30-minu
 te run we’ll meet back at LTD for a post-run beverage! If you are joinin
 g us\, make sure to RSVP on the website at or the Facebook Event RBR Faceb
 ook Events.
CATEGORIES:Club Runs
LOCATION:LTD Brewing\, 8 8th Ave N\, Hopkins\, MN\, 55343\, United States
GEO:44.92474050000001;-93.41011809999998
X-APPLE-STRUCTURED-LOCATION;VALUE=URI;X-ADDRESS=8 8th Ave N\, Hopkins\, MN\
 , 55343\, United States;X-APPLE-RADIUS=100;X-TITLE=LTD Brewing:geo:44.9247
 4050000001,-93.41011809999998
END:VEVENT
BEGIN:VTIMEZONE
TZID:America/Chicago
X-LIC-LOCATION:America/Chicago
BEGIN:DAYLIGHT
DTSTART:20250309T030000
TZOFFSETFROM:-0600
TZOFFSETTO:-0500
TZNAME:CDT
END:DAYLIGHT
END:VTIMEZONE
END:VCALENDAR