BEGIN:VCALENDAR
VERSION:2.0
PRODID:-//wp-events-plugin.com//7.2.3.1//EN
TZID:America/Chicago
X-WR-TIMEZONE:America/Chicago
BEGIN:VEVENT
UID:277@runbeerrepeat.com
DTSTART;TZID=America/Chicago:20240404T182000
DTEND;TZID=America/Chicago:20240404T203000
DTSTAMP:20231201T025056Z
URL:https://runbeerrepeat.com/events/luce-line-brewing-on-thursday-april-4
 th/
SUMMARY:Luce Line Brewing\, on Thursday April 4th
DESCRIPTION:Join us in Plymouth at Luce Line Brewing\, for our 1st April ru
 n. The group meets at 6:20 near the front of the brewery. We head out at 6
 :30 for a run or walk for 15 minutes\, then turn around and come back to s
 ocialize and drink some delicious beverages.  All running or walking pace
 s are welcome!
CATEGORIES:Club Runs
LOCATION:Luce Line Brewing\, 12901 16th Ave N\, Plymouth\, MN\, 55441\, Uni
 ted States
X-APPLE-STRUCTURED-LOCATION;VALUE=URI;X-ADDRESS=12901 16th Ave N\, Plymouth
 \, MN\, 55441\, United States;X-APPLE-RADIUS=100;X-TITLE=Luce Line Brewing
 :geo:0,0
END:VEVENT
BEGIN:VTIMEZONE
TZID:America/Chicago
X-LIC-LOCATION:America/Chicago
BEGIN:DAYLIGHT
DTSTART:20240310T030000
TZOFFSETFROM:-0600
TZOFFSETTO:-0500
TZNAME:CDT
END:DAYLIGHT
END:VTIMEZONE
END:VCALENDAR