BEGIN:VCALENDAR
VERSION:2.0
PRODID:-//wp-events-plugin.com//7.2.3.1//EN
TZID:America/Chicago
X-WR-TIMEZONE:America/Chicago
BEGIN:VEVENT
UID:292@runbeerrepeat.com
DTSTART;TZID=America/Chicago:20241003T182000
DTEND;TZID=America/Chicago:20241003T203000
DTSTAMP:20240815T012434Z
URL:https://runbeerrepeat.com/events/lynlake-brewing-on-thursday-october-3
 rd/
SUMMARY:LynLake Brewing on Thursday October 3rd
DESCRIPTION:Join us in Minneapolis at LynLake Brewing for our 1st October r
 un. The group meets at 6:20 near the front of the brewery. We head out at 
 6:30 for a run or walk for 15 minutes\, then turn around and come back to 
 socialize and drink some delicious beverages.  All running or walking pac
 es are welcome!
CATEGORIES:Club Runs
LOCATION:LynLake Brewery\, 2934 Lyndale Avenue South\, Minneapolis\, MN\, 5
 5408\, United States
GEO:44.948899;-93.28850899999998
X-APPLE-STRUCTURED-LOCATION;VALUE=URI;X-ADDRESS=2934 Lyndale Avenue South\,
  Minneapolis\, MN\, 55408\, United States;X-APPLE-RADIUS=100;X-TITLE=LynLa
 ke Brewery:geo:44.948899,-93.28850899999998
END:VEVENT
BEGIN:VTIMEZONE
TZID:America/Chicago
X-LIC-LOCATION:America/Chicago
BEGIN:DAYLIGHT
DTSTART:20240310T030000
TZOFFSETFROM:-0600
TZOFFSETTO:-0500
TZNAME:CDT
END:DAYLIGHT
END:VTIMEZONE
END:VCALENDAR