BEGIN:VCALENDAR
VERSION:2.0
PRODID:-//wp-events-plugin.com//7.2.3.1//EN
TZID:America/Chicago
X-WR-TIMEZONE:America/Chicago
BEGIN:VEVENT
UID:105@runbeerrepeat.com
DTSTART;TZID=America/Chicago:20180315T183000
DTEND;TZID=America/Chicago:20180315T200000
DTSTAMP:20180213T225338Z
URL:https://runbeerrepeat.com/events/march-15th-run/
SUMMARY:March 15th Run
DESCRIPTION:Our March 15th run will be at Dual Citizen Brewing
CATEGORIES:Club Runs
LOCATION:Dual Citizen Brewing\, 725 Raymond Ave\, St Paul\, MN\, 55114\, Un
 ited States
GEO:44.9631668;-93.1978006
X-APPLE-STRUCTURED-LOCATION;VALUE=URI;X-ADDRESS=725 Raymond Ave\, St Paul\,
  MN\, 55114\, United States;X-APPLE-RADIUS=100;X-TITLE=Dual Citizen Brewin
 g:geo:44.9631668,-93.1978006
END:VEVENT
BEGIN:VTIMEZONE
TZID:America/Chicago
X-LIC-LOCATION:America/Chicago
BEGIN:DAYLIGHT
DTSTART:20180311T030000
TZOFFSETFROM:-0600
TZOFFSETTO:-0500
TZNAME:CDT
END:DAYLIGHT
END:VTIMEZONE
END:VCALENDAR