BEGIN:VCALENDAR
VERSION:2.0
PRODID:-//wp-events-plugin.com//7.2.3.1//EN
TZID:America/Chicago
X-WR-TIMEZONE:America/Chicago
BEGIN:VEVENT
UID:103@runbeerrepeat.com
DTSTART;TZID=America/Chicago:20180301T183000
DTEND;TZID=America/Chicago:20180301T200000
DTSTAMP:20180213T225106Z
URL:https://runbeerrepeat.com/events/march-1st-run/
SUMMARY:March 1st Run
DESCRIPTION:Our March 1st run will be from Fair State Brewing in Minneapoli
 s
CATEGORIES:Club Runs
LOCATION:Fair State Brewing Cooperative\, 2506 Central Ave NE\, Minneapolis
 \, MN\, 55418\, United States
GEO:45.0135573;-93.2477591
X-APPLE-STRUCTURED-LOCATION;VALUE=URI;X-ADDRESS=2506 Central Ave NE\, Minne
 apolis\, MN\, 55418\, United States;X-APPLE-RADIUS=100;X-TITLE=Fair State 
 Brewing Cooperative:geo:45.0135573,-93.2477591
END:VEVENT
BEGIN:VTIMEZONE
TZID:America/Chicago
X-LIC-LOCATION:America/Chicago
BEGIN:STANDARD
DTSTART:20171105T010000
TZOFFSETFROM:-0500
TZOFFSETTO:-0600
TZNAME:CST
END:STANDARD
END:VTIMEZONE
END:VCALENDAR