BEGIN:VCALENDAR
VERSION:2.0
PRODID:-//wp-events-plugin.com//7.2.3.1//EN
TZID:America/Chicago
X-WR-TIMEZONE:America/Chicago
BEGIN:VEVENT
UID:137@runbeerrepeat.com
DTSTART;TZID=America/Chicago:20190321T183000
DTEND;TZID=America/Chicago:20190321T200000
DTSTAMP:20190222T182554Z
URL:https://runbeerrepeat.com/events/march-21st-run/
SUMMARY:March 21st Run
DESCRIPTION:Our run for March 21st will be at Stacked Deck in St Paul
CATEGORIES:Club Runs
LOCATION:Stacked Deck\, 421 Cedar St\, St Paul\, MN\, 55101\, United States
X-APPLE-STRUCTURED-LOCATION;VALUE=URI;X-ADDRESS=421 Cedar St\, St Paul\, MN
 \, 55101\, United States;X-APPLE-RADIUS=100;X-TITLE=Stacked Deck:geo:0,0
END:VEVENT
BEGIN:VTIMEZONE
TZID:America/Chicago
X-LIC-LOCATION:America/Chicago
BEGIN:DAYLIGHT
DTSTART:20190310T030000
TZOFFSETFROM:-0600
TZOFFSETTO:-0500
TZNAME:CDT
END:DAYLIGHT
END:VTIMEZONE
END:VCALENDAR