BEGIN:VCALENDAR
VERSION:2.0
PRODID:-//wp-events-plugin.com//7.2.3.1//EN
TZID:America/Chicago
X-WR-TIMEZONE:America/Chicago
BEGIN:VEVENT
UID:69@runbeerrepeat.com
DTSTART;TZID=America/Chicago:20170302T183000
DTEND;TZID=America/Chicago:20170302T200000
DTSTAMP:20170214T013154Z
URL:https://runbeerrepeat.com/events/march-2nd-run/
SUMMARY:March 2nd Run
DESCRIPTION:We head back to Fair State on March 2nd for our run!
ATTACH;FMTTYPE=image/jpeg:https://s3.amazonaws.com/storage.runbeerrepeat.c
 om/2015/05/2015-05-21-19.23.09.jpg
CATEGORIES:Club Runs
LOCATION:Fair State Brewing Cooperative\, 2506 Central Ave NE\, Minneapolis
 \, MN\, 55418\, United States
GEO:45.0135573;-93.2477591
X-APPLE-STRUCTURED-LOCATION;VALUE=URI;X-ADDRESS=2506 Central Ave NE\, Minne
 apolis\, MN\, 55418\, United States;X-APPLE-RADIUS=100;X-TITLE=Fair State 
 Brewing Cooperative:geo:45.0135573,-93.2477591
END:VEVENT
BEGIN:VTIMEZONE
TZID:America/Chicago
X-LIC-LOCATION:America/Chicago
BEGIN:STANDARD
DTSTART:20161106T010000
TZOFFSETFROM:-0500
TZOFFSETTO:-0600
TZNAME:CST
END:STANDARD
END:VTIMEZONE
END:VCALENDAR