BEGIN:VCALENDAR
VERSION:2.0
PRODID:-//wp-events-plugin.com//7.2.3.1//EN
TZID:America/Chicago
X-WR-TIMEZONE:America/Chicago
BEGIN:VEVENT
UID:215@runbeerrepeat.com
DTSTART;TZID=America/Chicago:20220331T183000
DTEND;TZID=America/Chicago:20220331T203000
DTSTAMP:20220316T183201Z
URL:https://runbeerrepeat.com/events/march-31st-bonus-run/
SUMMARY:March 31st BONUS Run
DESCRIPTION:Our run BONUS run for March 31st will be from Enki Brewing in V
 ictoria
CATEGORIES:Club Runs
LOCATION:Enki Brewing\, 1495 Stieger Lake Ln\, Victoria\, MN\, 55386\, Unit
 ed States
X-APPLE-STRUCTURED-LOCATION;VALUE=URI;X-ADDRESS=1495 Stieger Lake Ln\, Vict
 oria\, MN\, 55386\, United States;X-APPLE-RADIUS=100;X-TITLE=Enki Brewing:
 geo:0,0
END:VEVENT
BEGIN:VTIMEZONE
TZID:America/Chicago
X-LIC-LOCATION:America/Chicago
BEGIN:DAYLIGHT
DTSTART:20220313T030000
TZOFFSETFROM:-0600
TZOFFSETTO:-0500
TZNAME:CDT
END:DAYLIGHT
END:VTIMEZONE
END:VCALENDAR