BEGIN:VCALENDAR
VERSION:2.0
PRODID:-//wp-events-plugin.com//7.2.3.1//EN
TZID:America/Chicago
X-WR-TIMEZONE:America/Chicago
BEGIN:VEVENT
UID:213@runbeerrepeat.com
DTSTART;TZID=America/Chicago:20220303T183000
DTEND;TZID=America/Chicago:20220303T203000
DTSTAMP:20220202T185239Z
URL:https://runbeerrepeat.com/events/march-3rd-run-2/
SUMMARY:March 3rd Run
DESCRIPTION:Our run will be from Arbeiter Brewing Company in Minneapolis
CATEGORIES:Club Runs
LOCATION:Arbeiter Brewing Company\, 3038 Minnehaha Ave\, Minneapolis\, MN\,
  55406\, United States
X-APPLE-STRUCTURED-LOCATION;VALUE=URI;X-ADDRESS=3038 Minnehaha Ave\, Minnea
 polis\, MN\, 55406\, United States;X-APPLE-RADIUS=100;X-TITLE=Arbeiter Bre
 wing Company:geo:0,0
END:VEVENT
BEGIN:VTIMEZONE
TZID:America/Chicago
X-LIC-LOCATION:America/Chicago
BEGIN:STANDARD
DTSTART:20211107T010000
TZOFFSETFROM:-0500
TZOFFSETTO:-0600
TZNAME:CST
END:STANDARD
END:VTIMEZONE
END:VCALENDAR