BEGIN:VCALENDAR
VERSION:2.0
PRODID:-//wp-events-plugin.com//7.2.3.1//EN
TZID:America/Chicago
X-WR-TIMEZONE:America/Chicago
BEGIN:VEVENT
UID:43@runbeerrepeat.com
DTSTART;TZID=America/Chicago:20160303T183000
DTEND;TZID=America/Chicago:20160303T200000
DTSTAMP:20160212T201753Z
URL:https://runbeerrepeat.com/events/march-3rd-run/
SUMMARY:March 3rd Run
DESCRIPTION:The 1st Thursday of March run will be at the Community Keg Hous
 e in NE Minneapolis.
CATEGORIES:Club Runs
LOCATION:Community Keg House\, 34 13th Ave NE\, Minneapolis\, MN\, United S
 tates
GEO:44.9991806;-93.27156389999999
X-APPLE-STRUCTURED-LOCATION;VALUE=URI;X-ADDRESS=34 13th Ave NE\, Minneapoli
 s\, MN\, United States;X-APPLE-RADIUS=100;X-TITLE=Community Keg House:geo:
 44.9991806,-93.27156389999999
END:VEVENT
BEGIN:VTIMEZONE
TZID:America/Chicago
X-LIC-LOCATION:America/Chicago
BEGIN:STANDARD
DTSTART:20151101T010000
TZOFFSETFROM:-0500
TZOFFSETTO:-0600
TZNAME:CST
END:STANDARD
END:VTIMEZONE
END:VCALENDAR