BEGIN:VCALENDAR
VERSION:2.0
PRODID:-//wp-events-plugin.com//7.2.3.1//EN
TZID:America/Chicago
X-WR-TIMEZONE:America/Chicago
BEGIN:VEVENT
UID:140@runbeerrepeat.com
DTSTART;TZID=America/Chicago:20190323T170000
DTEND;TZID=America/Chicago:20190323T190000
DTSTAMP:20190313T175058Z
URL:https://runbeerrepeat.com/events/march-admin-meeting/
SUMMARY:March Admin Meeting
DESCRIPTION:Come help us plan our upcoming runs and check out a new brewery
 ! We'll be meeting at Under Pressure Brewing.
CATEGORIES:Other Events
LOCATION:Under Pressure Brewing\, 8806 7th Ave N\, Golden Valley\, MN\, 554
 27\, United States
GEO:44.9861069;-93.39084730000002
X-APPLE-STRUCTURED-LOCATION;VALUE=URI;X-ADDRESS=8806 7th Ave N\, Golden Val
 ley\, MN\, 55427\, United States;X-APPLE-RADIUS=100;X-TITLE=Under Pressure
  Brewing:geo:44.9861069,-93.39084730000002
END:VEVENT
BEGIN:VTIMEZONE
TZID:America/Chicago
X-LIC-LOCATION:America/Chicago
BEGIN:DAYLIGHT
DTSTART:20190310T030000
TZOFFSETFROM:-0600
TZOFFSETTO:-0500
TZNAME:CDT
END:DAYLIGHT
END:VTIMEZONE
END:VCALENDAR