BEGIN:VCALENDAR
VERSION:2.0
PRODID:-//wp-events-plugin.com//7.2.3.1//EN
TZID:America/Chicago
X-WR-TIMEZONE:America/Chicago
BEGIN:VEVENT
UID:141@runbeerrepeat.com
DTSTART;TZID=America/Chicago:20190502T183000
DTEND;TZID=America/Chicago:20190502T203000
DTSTAMP:20190319T013531Z
URL:https://runbeerrepeat.com/events/may-2nd-run-5th-anniversary/
SUMMARY:May 2nd Run - 5th Anniversary
DESCRIPTION:Join us for our 5th Anniversary as we run from Broken Clock in 
 Minneapolis!\n\nWe promise no blizzard this time!
CATEGORIES:Club Runs
LOCATION:Broken Clock Brewing Cooperative\, 3134 California St NE\, Minneap
 olis\, MN\, 55418\, United States
X-APPLE-STRUCTURED-LOCATION;VALUE=URI;X-ADDRESS=3134 California St NE\, Min
 neapolis\, MN\, 55418\, United States;X-APPLE-RADIUS=100;X-TITLE=Broken Cl
 ock Brewing Cooperative:geo:0,0
END:VEVENT
BEGIN:VTIMEZONE
TZID:America/Chicago
X-LIC-LOCATION:America/Chicago
BEGIN:DAYLIGHT
DTSTART:20190310T030000
TZOFFSETFROM:-0600
TZOFFSETTO:-0500
TZNAME:CDT
END:DAYLIGHT
END:VTIMEZONE
END:VCALENDAR