BEGIN:VCALENDAR
VERSION:2.0
PRODID:-//wp-events-plugin.com//7.2.3.1//EN
TZID:America/Chicago
X-WR-TIMEZONE:America/Chicago
BEGIN:VEVENT
UID:144@runbeerrepeat.com
DTSTART;TZID=America/Chicago:20190530T183000
DTEND;TZID=America/Chicago:20190530T203000
DTSTAMP:20190429T140236Z
URL:https://runbeerrepeat.com/events/may-30th-bonus-run/
SUMMARY:May 30th BONUS Run
DESCRIPTION:May gives us a 5th Thursday. That means we get a BONUS run this
  month! Join us at Unmapped Brewing in Minnetonka for our run!
CATEGORIES:Club Runs
LOCATION:Unmapped Brewing\, 14625 Excelsior Blvd\, Minnetonka\, MN\, 55345\
 , United States
GEO:44.904037;-93.46716889999999
X-APPLE-STRUCTURED-LOCATION;VALUE=URI;X-ADDRESS=14625 Excelsior Blvd\, Minn
 etonka\, MN\, 55345\, United States;X-APPLE-RADIUS=100;X-TITLE=Unmapped Br
 ewing:geo:44.904037,-93.46716889999999
END:VEVENT
BEGIN:VTIMEZONE
TZID:America/Chicago
X-LIC-LOCATION:America/Chicago
BEGIN:DAYLIGHT
DTSTART:20190310T030000
TZOFFSETFROM:-0600
TZOFFSETTO:-0500
TZNAME:CDT
END:DAYLIGHT
END:VTIMEZONE
END:VCALENDAR