BEGIN:VCALENDAR
VERSION:2.0
PRODID:-//wp-events-plugin.com//7.2.3.1//EN
TZID:America/Chicago
X-WR-TIMEZONE:America/Chicago
BEGIN:VEVENT
UID:276@runbeerrepeat.com
DTSTART;TZID=America/Chicago:20240321T182000
DTEND;TZID=America/Chicago:20240321T203000
DTSTAMP:20231201T024857Z
URL:https://runbeerrepeat.com/events/metronome-brewery-on-thursday-march-2
 1st/
SUMMARY:MetroNOME Brewery on Thursday March 21st
DESCRIPTION:Join us in St. Paul at MetroNOME Brewery for our 2nd March run.
  The group meets at 6:20 near the front of the brewery. We head out at 6:3
 0 for a run or walk for 15 minutes\, then turn around and come back to soc
 ialize and drink some delicious beverages.  All running or walking paces 
 are welcome!
CATEGORIES:Club Runs
LOCATION:MetroNOME Brewery\, 289 5th Street East\, St. Paul\, MN\, 55101\, 
 United States
X-APPLE-STRUCTURED-LOCATION;VALUE=URI;X-ADDRESS=289 5th Street East\, St. P
 aul\, MN\, 55101\, United States;X-APPLE-RADIUS=100;X-TITLE=MetroNOME Brew
 ery:geo:0,0
END:VEVENT
BEGIN:VTIMEZONE
TZID:America/Chicago
X-LIC-LOCATION:America/Chicago
BEGIN:DAYLIGHT
DTSTART:20240310T030000
TZOFFSETFROM:-0600
TZOFFSETTO:-0500
TZNAME:CDT
END:DAYLIGHT
END:VTIMEZONE
END:VCALENDAR