BEGIN:VCALENDAR
VERSION:2.0
PRODID:-//wp-events-plugin.com//7.2.3.1//EN
TZID:America/Chicago
X-WR-TIMEZONE:America/Chicago
BEGIN:VEVENT
UID:297@runbeerrepeat.com
DTSTART;TZID=America/Chicago:20250116T183000
DTEND;TZID=America/Chicago:20250116T190000
DTSTAMP:20241220T215237Z
URL:https://runbeerrepeat.com/events/minneapolis-cider-co/
SUMMARY:Minneapolis Cider Co.
DESCRIPTION:Join us at Minneapolis Cider Co. in Minneapolis for an awesome 
 run! Come join us for a 30-minute out-and-back run\, followed by some grea
 t beer! We will meet at 6:20pm in the front of the facility and will start
  our run at 6:30 sharp so please plan to get there and parked on time. Sin
 ce we’ll be running in the dark\, be sure to bring a headlamp and wear r
 eflective clothing for safety. After our 30-minute run we'll meet back at 
 Minneapolis Cider for a post-run beverage! If you are joining us\, make su
 re to RSVP on the website at or the Facebook Event RBR Facebook Events.
CATEGORIES:Club Runs
LOCATION:Minneapolis Cider Co.\, 701 SE 9th Street\, Minneapolis\, MN\, 554
 14\, United States
X-APPLE-STRUCTURED-LOCATION;VALUE=URI;X-ADDRESS=701 SE 9th Street\, Minneap
 olis\, MN\, 55414\, United States;X-APPLE-RADIUS=100;X-TITLE=Minneapolis C
 ider Co.:geo:0,0
END:VEVENT
BEGIN:VTIMEZONE
TZID:America/Chicago
X-LIC-LOCATION:America/Chicago
BEGIN:STANDARD
DTSTART:20241103T010000
TZOFFSETFROM:-0500
TZOFFSETTO:-0600
TZNAME:CST
END:STANDARD
END:VTIMEZONE
END:VCALENDAR