BEGIN:VCALENDAR
VERSION:2.0
PRODID:-//wp-events-plugin.com//7.2.3.1//EN
TZID:America/Chicago
X-WR-TIMEZONE:America/Chicago
BEGIN:VEVENT
UID:324@runbeerrepeat.com
DTSTART;TZID=America/Chicago:20251218T183000
DTEND;TZID=America/Chicago:20251218T190000
DTSTAMP:20250912T171404Z
URL:https://runbeerrepeat.com/events/modist-brewing-co/
SUMMARY:Modist Brewing Co
DESCRIPTION:Join us at Modist Brewing Co in Minneapolis for an awesome run!
  Come join us for a 30-minute out-and-back run\, followed by some great be
 er! We will meet at 6:20pm in the front of the facility and will start our
  run at 6:30 sharp so please plan to get there and parked on time. After o
 ur 30-minute run we’ll meet back at Modist for a post-run beverage! If y
 ou are joining us\, make sure to RSVP on the website at or the Facebook Ev
 ent RBR Facebook Events.
CATEGORIES:Club Runs
LOCATION:Modist Brewing\, 505 N 3rd St\, Minneapolis\, MN\, 55401\, United 
 States
GEO:44.985267;-93.27648310000001
X-APPLE-STRUCTURED-LOCATION;VALUE=URI;X-ADDRESS=505 N 3rd St\, Minneapolis\
 , MN\, 55401\, United States;X-APPLE-RADIUS=100;X-TITLE=Modist Brewing:geo
 :44.985267,-93.27648310000001
END:VEVENT
BEGIN:VTIMEZONE
TZID:America/Chicago
X-LIC-LOCATION:America/Chicago
BEGIN:STANDARD
DTSTART:20251102T010000
TZOFFSETFROM:-0500
TZOFFSETTO:-0600
TZNAME:CST
END:STANDARD
END:VTIMEZONE
END:VCALENDAR