BEGIN:VCALENDAR
VERSION:2.0
PRODID:-//wp-events-plugin.com//7.2.3.1//EN
TZID:America/Chicago
X-WR-TIMEZONE:America/Chicago
BEGIN:VEVENT
UID:124@runbeerrepeat.com
DTSTART;TZID=America/Chicago:20181115T183000
DTEND;TZID=America/Chicago:20181115T200000
DTSTAMP:20181018T162329Z
URL:https://runbeerrepeat.com/events/november-15th-run/
SUMMARY:November 15th Run
DESCRIPTION:Our run for the 3rd Thursday of November will be from First Dra
 ft in Minneapolis!
CATEGORIES:Club Runs
LOCATION:First Draft\, 324 N 6th Ave\, Minneapolis\, MN\, 55401\, United St
 ates
GEO:44.984419;-93.28303470000003
X-APPLE-STRUCTURED-LOCATION;VALUE=URI;X-ADDRESS=324 N 6th Ave\, Minneapolis
 \, MN\, 55401\, United States;X-APPLE-RADIUS=100;X-TITLE=First Draft:geo:4
 4.984419,-93.28303470000003
END:VEVENT
BEGIN:VTIMEZONE
TZID:America/Chicago
X-LIC-LOCATION:America/Chicago
BEGIN:STANDARD
DTSTART:20181104T010000
TZOFFSETFROM:-0500
TZOFFSETTO:-0600
TZNAME:CST
END:STANDARD
END:VTIMEZONE
END:VCALENDAR