BEGIN:VCALENDAR
VERSION:2.0
PRODID:-//wp-events-plugin.com//7.2.3.1//EN
TZID:America/Chicago
X-WR-TIMEZONE:America/Chicago
BEGIN:VEVENT
UID:123@runbeerrepeat.com
DTSTART;TZID=America/Chicago:20181101T183000
DTEND;TZID=America/Chicago:20181101T203000
DTSTAMP:20181001T215026Z
URL:https://runbeerrepeat.com/events/november-1st-run/
SUMMARY:November 1st Run
DESCRIPTION:Our run for November 1st will be at Clutch Brewing in St Paul
ATTACH;FMTTYPE=image/jpeg:https://s3.amazonaws.com/storage.runbeerrepeat.c
 om/2019/06/clutch.png
CATEGORIES:Club Runs
LOCATION:Clutch Brewing\, 928 7th St W #201\, St. Paul\, MN\, 55102\, Unite
 d States
GEO:44.9287047;-93.12476609999999
X-APPLE-STRUCTURED-LOCATION;VALUE=URI;X-ADDRESS=928 7th St W #201\, St. Pau
 l\, MN\, 55102\, United States;X-APPLE-RADIUS=100;X-TITLE=Clutch Brewing:g
 eo:44.9287047,-93.12476609999999
END:VEVENT
BEGIN:VTIMEZONE
TZID:America/Chicago
X-LIC-LOCATION:America/Chicago
BEGIN:DAYLIGHT
DTSTART:20180311T030000
TZOFFSETFROM:-0600
TZOFFSETTO:-0500
TZNAME:CDT
END:DAYLIGHT
END:VTIMEZONE
END:VCALENDAR