BEGIN:VCALENDAR
VERSION:2.0
PRODID:-//wp-events-plugin.com//7.2.3.1//EN
TZID:America/Chicago
X-WR-TIMEZONE:America/Chicago
BEGIN:VEVENT
UID:12@runbeerrepeat.com
DTSTART;TZID=America/Chicago:20141120T181500
DTEND;TZID=America/Chicago:20141120T200000
DTSTAMP:20141103T155903Z
URL:https://runbeerrepeat.com/events/november-20th-run/
SUMMARY:November 20th Run
DESCRIPTION:November 20th Club Run
CATEGORIES:Club Runs
LOCATION:Fulton Brewing\, 414 6th Ave North\, Minneapolis\, MN\, 55401\, Un
 ited States
GEO:44.984937;-93.27912300000003
X-APPLE-STRUCTURED-LOCATION;VALUE=URI;X-ADDRESS=414 6th Ave North\, Minneap
 olis\, MN\, 55401\, United States;X-APPLE-RADIUS=100;X-TITLE=Fulton Brewin
 g:geo:44.984937,-93.27912300000003
END:VEVENT
BEGIN:VTIMEZONE
TZID:America/Chicago
X-LIC-LOCATION:America/Chicago
BEGIN:STANDARD
DTSTART:20141102T010000
TZOFFSETFROM:-0500
TZOFFSETTO:-0600
TZNAME:CST
END:STANDARD
END:VTIMEZONE
END:VCALENDAR