BEGIN:VCALENDAR
VERSION:2.0
PRODID:-//wp-events-plugin.com//7.2.3.1//EN
TZID:America/Chicago
X-WR-TIMEZONE:America/Chicago
BEGIN:VEVENT
UID:184@runbeerrepeat.com
DTSTART;TZID=America/Chicago:20201105T190000
DTEND;TZID=America/Chicago:20201105T210000
DTSTAMP:20201029T152201Z
URL:https://runbeerrepeat.com/events/november-5th-gorunthenbeerrepeat-at-u
 nmapped/
SUMMARY:November 5th #GoRunThenBeerRepeat at Unmapped
DESCRIPTION:Join us October 5th for another RunBeerRepeat #GoRunThenBeerRep
 eat event! Unmapped Brewing has invited us over! We are still planning thi
 s as a run on your own and then hang out. \n\nAs usual (for now)\, go for 
 a 30 minute run on your own\, following out COVID-19 guidance\, then bring
  your own everything and come hang out with us!
CATEGORIES:Club Runs
LOCATION:Unmapped Brewing\, 14625 Excelsior Blvd\, Minnetonka\, MN\, 55345\
 , United States
GEO:44.904037;-93.46716889999999
X-APPLE-STRUCTURED-LOCATION;VALUE=URI;X-ADDRESS=14625 Excelsior Blvd\, Minn
 etonka\, MN\, 55345\, United States;X-APPLE-RADIUS=100;X-TITLE=Unmapped Br
 ewing:geo:44.904037,-93.46716889999999
END:VEVENT
BEGIN:VTIMEZONE
TZID:America/Chicago
X-LIC-LOCATION:America/Chicago
BEGIN:STANDARD
DTSTART:20201101T010000
TZOFFSETFROM:-0500
TZOFFSETTO:-0600
TZNAME:CST
END:STANDARD
END:VTIMEZONE
END:VCALENDAR