BEGIN:VCALENDAR
VERSION:2.0
PRODID:-//wp-events-plugin.com//7.2.3.1//EN
TZID:America/Chicago
X-WR-TIMEZONE:America/Chicago
BEGIN:VEVENT
UID:11@runbeerrepeat.com
DTSTART;TZID=America/Chicago:20141105T181500
DTEND;TZID=America/Chicago:20141105T194500
DTSTAMP:20141103T155616Z
URL:https://runbeerrepeat.com/events/november-5th-run/
SUMMARY:November 5th Run
DESCRIPTION:Come run with us! This is our regularly scheduled 1st Wednesday
  of the month run. We will meet at 6:15pm at Dangerous Man Brewing and run
  at 6:30 sharp so plan to get there and find parking a little early. After
  about a thirty minute run\, we will grab an after-run beer from Dangerous
  Man!
CATEGORIES:Club Runs
LOCATION:Dangerous Man Brewing\, 1300 2nd Street NE\, Minneapolis\, MN\, 55
 413\, United States
GEO:45.0010936;-93.26636910000002
X-APPLE-STRUCTURED-LOCATION;VALUE=URI;X-ADDRESS=1300 2nd Street NE\, Minnea
 polis\, MN\, 55413\, United States;X-APPLE-RADIUS=100;X-TITLE=Dangerous Ma
 n Brewing:geo:45.0010936,-93.26636910000002
END:VEVENT
BEGIN:VTIMEZONE
TZID:America/Chicago
X-LIC-LOCATION:America/Chicago
BEGIN:STANDARD
DTSTART:20141102T010000
TZOFFSETFROM:-0500
TZOFFSETTO:-0600
TZNAME:CST
END:STANDARD
END:VTIMEZONE
END:VCALENDAR