BEGIN:VCALENDAR
VERSION:2.0
PRODID:-//wp-events-plugin.com//7.2.3.1//EN
TZID:America/Chicago
X-WR-TIMEZONE:America/Chicago
BEGIN:VEVENT
UID:32@runbeerrepeat.com
DTSTART;TZID=America/Chicago:20151001T181500
DTEND;TZID=America/Chicago:20151001T203000
DTSTAMP:20150911T171139Z
URL:https://runbeerrepeat.com/events/october-1st-run-2/
SUMMARY:October 1st Run
DESCRIPTION:Our 1st Thursday of the month run. We will be running from Fult
 on Brewing in Minneapolis.
CATEGORIES:Club Runs
LOCATION:Fulton Brewing\, 414 6th Ave North\, Minneapolis\, MN\, 55401\, Un
 ited States
GEO:44.984937;-93.27912300000003
X-APPLE-STRUCTURED-LOCATION;VALUE=URI;X-ADDRESS=414 6th Ave North\, Minneap
 olis\, MN\, 55401\, United States;X-APPLE-RADIUS=100;X-TITLE=Fulton Brewin
 g:geo:44.984937,-93.27912300000003
END:VEVENT
BEGIN:VTIMEZONE
TZID:America/Chicago
X-LIC-LOCATION:America/Chicago
BEGIN:DAYLIGHT
DTSTART:20150308T030000
TZOFFSETFROM:-0600
TZOFFSETTO:-0500
TZNAME:CDT
END:DAYLIGHT
END:VTIMEZONE
END:VCALENDAR