BEGIN:VCALENDAR
VERSION:2.0
PRODID:-//wp-events-plugin.com//7.2.3.1//EN
TZID:America/Chicago
X-WR-TIMEZONE:America/Chicago
BEGIN:VEVENT
UID:60@runbeerrepeat.com
DTSTART;TZID=America/Chicago:20161020T183000
DTEND;TZID=America/Chicago:20161020T200000
DTSTAMP:20160927T010908Z
URL:https://runbeerrepeat.com/events/october-20th-run/
SUMMARY:October 20th Run
DESCRIPTION:For the 3rd Thursday of October we will be running at Bang Brew
 ing right on the border of Minneapolis and St Paul.
CATEGORIES:Club Runs
LOCATION:Bang Brewing\, 2320 Capp Road\, St Paul\, MN\, 55114\, United Stat
 es
GEO:44.9704807;-93.19259060000002
X-APPLE-STRUCTURED-LOCATION;VALUE=URI;X-ADDRESS=2320 Capp Road\, St Paul\, 
 MN\, 55114\, United States;X-APPLE-RADIUS=100;X-TITLE=Bang Brewing:geo:44.
 9704807,-93.19259060000002
END:VEVENT
BEGIN:VTIMEZONE
TZID:America/Chicago
X-LIC-LOCATION:America/Chicago
BEGIN:DAYLIGHT
DTSTART:20160313T030000
TZOFFSETFROM:-0600
TZOFFSETTO:-0500
TZNAME:CDT
END:DAYLIGHT
END:VTIMEZONE
END:VCALENDAR