BEGIN:VCALENDAR
VERSION:2.0
PRODID:-//wp-events-plugin.com//7.2.3.1//EN
TZID:America/Chicago
X-WR-TIMEZONE:America/Chicago
BEGIN:VEVENT
UID:183@runbeerrepeat.com
DTSTART;TZID=America/Chicago:20201029T190000
DTEND;TZID=America/Chicago:20201029T210000
DTSTAMP:20201027T150353Z
URL:https://runbeerrepeat.com/events/october-29th-gorunthenbeerrepeat/
SUMMARY:October 29th #GoRunThenBeerRepeat
DESCRIPTION:Join us October 1st for another RunBeerRepeat #GoRunThenBeerRep
 eat event! This one will be hosted by club members Sam and Bridgette's hom
 e in South Minneapolis between Lake Nokomis and the Minneapolis VA Hopspit
 al. The exact address will be emailed to all RSVP's the week of the run.\n
 \nAs usual (for now)\, go for a 30 minute run on your own\, following out 
 COVID-19 guidance\, then bring your own everything and come hang out with 
 us!
CATEGORIES:Club Runs
END:VEVENT
BEGIN:VTIMEZONE
TZID:America/Chicago
X-LIC-LOCATION:America/Chicago
BEGIN:DAYLIGHT
DTSTART:20200308T030000
TZOFFSETFROM:-0600
TZOFFSETTO:-0500
TZNAME:CDT
END:DAYLIGHT
END:VTIMEZONE
END:VCALENDAR