BEGIN:VCALENDAR
VERSION:2.0
PRODID:-//wp-events-plugin.com//7.2.3.1//EN
TZID:America/Chicago
X-WR-TIMEZONE:America/Chicago
BEGIN:VEVENT
UID:157@runbeerrepeat.com
DTSTART;TZID=America/Chicago:20191030T180000
DTEND;TZID=America/Chicago:20191030T200000
DTSTAMP:20190917T141305Z
URL:https://runbeerrepeat.com/events/october-30th-wednesday-bonus-run/
SUMMARY:October 30th Wednesday BONUS Run
DESCRIPTION:For our Bonus run in October\, we are joining Lupulin's Running
  Club on their regularly scheduled evening run! Note this is a different t
 ime and day than our usual runs.
CATEGORIES:Club Runs
LOCATION:Lupulin Brewing\, 570 Humboldt Drive #107\, Big Lake\, MN\, 55309\
 , United States
GEO:45.3331421;-93.73350619999997
X-APPLE-STRUCTURED-LOCATION;VALUE=URI;X-ADDRESS=570 Humboldt Drive #107\, B
 ig Lake\, MN\, 55309\, United States;X-APPLE-RADIUS=100;X-TITLE=Lupulin Br
 ewing:geo:45.3331421,-93.73350619999997
END:VEVENT
BEGIN:VTIMEZONE
TZID:America/Chicago
X-LIC-LOCATION:America/Chicago
BEGIN:DAYLIGHT
DTSTART:20190310T030000
TZOFFSETFROM:-0600
TZOFFSETTO:-0500
TZNAME:CDT
END:DAYLIGHT
END:VTIMEZONE
END:VCALENDAR