BEGIN:VCALENDAR
VERSION:2.0
PRODID:-//wp-events-plugin.com//7.2.3.1//EN
TZID:America/Chicago
X-WR-TIMEZONE:America/Chicago
BEGIN:VEVENT
UID:256@runbeerrepeat.com
DTSTART;TZID=America/Chicago:20230831T182000
DTEND;TZID=America/Chicago:20230831T203000
DTSTAMP:20230816T221830Z
URL:https://runbeerrepeat.com/events/omni-brewing-on-august-31st/
SUMMARY:Omni Brewing on August 31st
DESCRIPTION:Join us in Maple Grove at Omni Brewing for our 3rd August run. 
 The group meets at 6:20 near the front of the brewery. We head out from th
 e brewery at 6:30 for a run or walk for 15 minutes\, then turn around and 
 come back to socialize and drink some delicious beverages.  All running o
 r walking paces are welcome!
CATEGORIES:Club Runs
LOCATION:Omni Brewing\, 9462 Deerwood Ln N\, Maple Grove\, MN\, 55369\, Uni
 ted States
X-APPLE-STRUCTURED-LOCATION;VALUE=URI;X-ADDRESS=9462 Deerwood Ln N\, Maple 
 Grove\, MN\, 55369\, United States;X-APPLE-RADIUS=100;X-TITLE=Omni Brewing
 :geo:0,0
END:VEVENT
BEGIN:VTIMEZONE
TZID:America/Chicago
X-LIC-LOCATION:America/Chicago
BEGIN:DAYLIGHT
DTSTART:20230312T030000
TZOFFSETFROM:-0600
TZOFFSETTO:-0500
TZNAME:CDT
END:DAYLIGHT
END:VTIMEZONE
END:VCALENDAR