BEGIN:VCALENDAR
VERSION:2.0
PRODID:-//wp-events-plugin.com//7.2.3.1//EN
TZID:America/Chicago
X-WR-TIMEZONE:America/Chicago
BEGIN:VEVENT
UID:102@runbeerrepeat.com
DTSTART;TZID=America/Chicago:20180207T183000
DTEND;TZID=America/Chicago:20180207T200000
DTSTAMP:20180205T183454Z
URL:https://runbeerrepeat.com/events/pop-run-lupulin-brewing/
SUMMARY:Pop-up run at Lupulin Brewing
DESCRIPTION:A few of us are heading up to Lupulin Brewing to join their run
 ning club on one of their Wednesday evening runs. Feel free to come join u
 s!
CATEGORIES:Popup Runs
LOCATION:Lupulin Brewing\, 570 Humboldt Drive #107\, Big Lake\, MN\, 55309\
 , United States
GEO:45.3331421;-93.73350619999997
X-APPLE-STRUCTURED-LOCATION;VALUE=URI;X-ADDRESS=570 Humboldt Drive #107\, B
 ig Lake\, MN\, 55309\, United States;X-APPLE-RADIUS=100;X-TITLE=Lupulin Br
 ewing:geo:45.3331421,-93.73350619999997
END:VEVENT
BEGIN:VTIMEZONE
TZID:America/Chicago
X-LIC-LOCATION:America/Chicago
BEGIN:STANDARD
DTSTART:20171105T010000
TZOFFSETFROM:-0500
TZOFFSETTO:-0600
TZNAME:CST
END:STANDARD
END:VTIMEZONE
END:VCALENDAR