BEGIN:VCALENDAR
VERSION:2.0
PRODID:-//wp-events-plugin.com//7.2.3.1//EN
TZID:America/Chicago
X-WR-TIMEZONE:America/Chicago
BEGIN:VEVENT
UID:214@runbeerrepeat.com
DTSTART;TZID=America/Chicago:20220223T183000
DTEND;TZID=America/Chicago:20220223T183000
DTSTAMP:20220216T192717Z
URL:https://runbeerrepeat.com/events/pop-up-run-at-9-mile-brewing/
SUMMARY:Pop-up Run at 9-Mile Brewing
DESCRIPTION:Paula is hosting a pop-up run Wednesday\, February 23rd at 9-Mi
 le Brewing in Bloomington!
CATEGORIES:Popup Runs
LOCATION:9-Mile Brewing\, 9555 James Ave S Suite 290\, Bloomington\, MN\, 5
 5431\, United States
X-APPLE-STRUCTURED-LOCATION;VALUE=URI;X-ADDRESS=9555 James Ave S Suite 290\
 , Bloomington\, MN\, 55431\, United States;X-APPLE-RADIUS=100;X-TITLE=9-Mi
 le Brewing:geo:0,0
END:VEVENT
BEGIN:VTIMEZONE
TZID:America/Chicago
X-LIC-LOCATION:America/Chicago
BEGIN:STANDARD
DTSTART:20211107T010000
TZOFFSETFROM:-0500
TZOFFSETTO:-0600
TZNAME:CST
END:STANDARD
END:VTIMEZONE
END:VCALENDAR