BEGIN:VCALENDAR
VERSION:2.0
PRODID:-//wp-events-plugin.com//7.2.3.1//EN
TZID:America/Chicago
X-WR-TIMEZONE:America/Chicago
BEGIN:VEVENT
UID:295@runbeerrepeat.com
DTSTART;TZID=America/Chicago:20241121T182000
DTEND;TZID=America/Chicago:20241121T203000
DTSTAMP:20240815T014501Z
URL:https://runbeerrepeat.com/events/rail-werks-brewing-depot-on-thursday-
 november-21st/
SUMMARY:Rail Werks Brewing Depot on Thursday November 21st
DESCRIPTION:Join us in Columbia Heights at Rail Werks Brewing Depot for our
  2nd November run. The group meets at 6:20 near the front of the brewery. 
 We head out at 6:30 for a run or walk for 15 minutes\, then turn around an
 d come back to socialize and drink some delicious beverages.  All running
  or walking paces are welcome! Please come prepared for night running with
  lights and reflective gear.
CATEGORIES:Club Runs
LOCATION:Rail Werks Brewing Depot\, 4055 Central Ave NE\, Columbia Heights\
 , MN\, 55421\, United States
X-APPLE-STRUCTURED-LOCATION;VALUE=URI;X-ADDRESS=4055 Central Ave NE\, Colum
 bia Heights\, MN\, 55421\, United States;X-APPLE-RADIUS=100;X-TITLE=Rail W
 erks Brewing Depot:geo:0,0
END:VEVENT
BEGIN:VTIMEZONE
TZID:America/Chicago
X-LIC-LOCATION:America/Chicago
BEGIN:STANDARD
DTSTART:20241103T010000
TZOFFSETFROM:-0500
TZOFFSETTO:-0600
TZNAME:CST
END:STANDARD
END:VTIMEZONE
END:VCALENDAR