BEGIN:VCALENDAR
VERSION:2.0
PRODID:-//wp-events-plugin.com//7.2.3.1//EN
TZID:America/Chicago
X-WR-TIMEZONE:America/Chicago
BEGIN:VEVENT
UID:242@runbeerrepeat.com
DTSTART;TZID=America/Chicago:20230330T182000
DTEND;TZID=America/Chicago:20230330T213000
DTSTAMP:20221231T010634Z
URL:https://runbeerrepeat.com/events/run-beer-repeat-aegir/
SUMMARY:March 30th run at Aegir Brewing Co
DESCRIPTION:Join us in Elk River at Aegir Brewing for our March bonus run. 
 The group meets at 6:20 near the front of the brewery\, then takes off for
  a 30 minute run or walk at 6:30. We will head out for 15 minutes\, then t
 urn around and head back to the brewery to enjoy some beers together! All 
 paces are welcome! We strongly encourage everyone to bring lights and refl
 ective gear during the winter months.
CATEGORIES:Club Runs
LOCATION:Aegir Brewing Co\, 19050 Industrial Blvd NW\, Elk River\, MN\, 553
 30\, United States
X-APPLE-STRUCTURED-LOCATION;VALUE=URI;X-ADDRESS=19050 Industrial Blvd NW\, 
 Elk River\, MN\, 55330\, United States;X-APPLE-RADIUS=100;X-TITLE=Aegir Br
 ewing Co:geo:0,0
END:VEVENT
BEGIN:VTIMEZONE
TZID:America/Chicago
X-LIC-LOCATION:America/Chicago
BEGIN:DAYLIGHT
DTSTART:20230312T030000
TZOFFSETFROM:-0600
TZOFFSETTO:-0500
TZNAME:CDT
END:DAYLIGHT
END:VTIMEZONE
END:VCALENDAR