BEGIN:VCALENDAR
VERSION:2.0
PRODID:-//wp-events-plugin.com//7.2.3.1//EN
TZID:America/Chicago
X-WR-TIMEZONE:America/Chicago
BEGIN:VEVENT
UID:237@runbeerrepeat.com
DTSTART;TZID=America/Chicago:20230202T183000
DTEND;TZID=America/Chicago:20230202T210000
DTSTAMP:20221231T002555Z
URL:https://runbeerrepeat.com/events/run-beer-repeat-insight-brewing-tapro
 om/
SUMMARY:Run Beer Repeat - Insight Brewing & Taproom
DESCRIPTION:Join us at Insight Brewing for our first February run! The grou
 p meets at 6:20 and begins a 15 minute out and back from the brewery at 6:
 30.
CATEGORIES:Club Runs
LOCATION:Insight Brewing\, 2821 E Hennepin Ave\, Minneapolis\, MN\, 55413\,
  United States
GEO:44.991933;-93.21294999999998
X-APPLE-STRUCTURED-LOCATION;VALUE=URI;X-ADDRESS=2821 E Hennepin Ave\, Minne
 apolis\, MN\, 55413\, United States;X-APPLE-RADIUS=100;X-TITLE=Insight Bre
 wing:geo:44.991933,-93.21294999999998
END:VEVENT
BEGIN:VTIMEZONE
TZID:America/Chicago
X-LIC-LOCATION:America/Chicago
BEGIN:STANDARD
DTSTART:20221106T010000
TZOFFSETFROM:-0500
TZOFFSETTO:-0600
TZNAME:CST
END:STANDARD
END:VTIMEZONE
END:VCALENDAR