BEGIN:VCALENDAR
VERSION:2.0
PRODID:-//wp-events-plugin.com//7.2.3.1//EN
TZID:America/Chicago
X-WR-TIMEZONE:America/Chicago
BEGIN:VEVENT
UID:238@runbeerrepeat.com
DTSTART;TZID=America/Chicago:20230216T182000
DTEND;TZID=America/Chicago:20230216T212000
DTSTAMP:20221231T011014Z
URL:https://runbeerrepeat.com/events/run-beer-repeat-modist-brewing/
SUMMARY:February 16th run at Modist Brewing
DESCRIPTION:Join us in Minneapolis at Modist Brewing for our 2nd February r
 un. The group meets at 6:20 near the front of the brewery\, then takes off
  for a 30 minute run or walk at 6:30. We will head out for 15 minutes\, th
 en turn around and head back to the brewery to enjoy some beers together! 
 All paces are welcome! We strongly encourage everyone to bring lights and 
 reflective gear during the winter months.
CATEGORIES:Club Runs
LOCATION:Modist Brewing\, 505 N 3rd St\, Minneapolis\, MN\, 55401\, United 
 States
GEO:44.985267;-93.27648310000001
X-APPLE-STRUCTURED-LOCATION;VALUE=URI;X-ADDRESS=505 N 3rd St\, Minneapolis\
 , MN\, 55401\, United States;X-APPLE-RADIUS=100;X-TITLE=Modist Brewing:geo
 :44.985267,-93.27648310000001
END:VEVENT
BEGIN:VTIMEZONE
TZID:America/Chicago
X-LIC-LOCATION:America/Chicago
BEGIN:STANDARD
DTSTART:20221106T010000
TZOFFSETFROM:-0500
TZOFFSETTO:-0600
TZNAME:CST
END:STANDARD
END:VTIMEZONE
END:VCALENDAR