BEGIN:VCALENDAR
VERSION:2.0
PRODID:-//wp-events-plugin.com//7.2.3.1//EN
TZID:America/Chicago
X-WR-TIMEZONE:America/Chicago
BEGIN:VEVENT
UID:236@runbeerrepeat.com
DTSTART;TZID=America/Chicago:20230119T183000
DTEND;TZID=America/Chicago:20230119T210000
DTSTAMP:20221230T235926Z
URL:https://runbeerrepeat.com/events/run-beer-repeat-wabasha-brewing-compa
 ny/
SUMMARY:Run Beer Repeat - Wabasha Brewing Company
DESCRIPTION:Join us at Wabasha Brewing Company for our second January run! 
 The group meets at 6:20 and begins a 15 minute out and back from the brewe
 ry at 6:30.
CATEGORIES:Club Runs
LOCATION:Wabasha Brewing\, 429 Wabasha St\, St Paul\, MN\, 55107\, United S
 tates
GEO:44.9329546;-93.08471829999996
X-APPLE-STRUCTURED-LOCATION;VALUE=URI;X-ADDRESS=429 Wabasha St\, St Paul\, 
 MN\, 55107\, United States;X-APPLE-RADIUS=100;X-TITLE=Wabasha Brewing:geo:
 44.9329546,-93.08471829999996
END:VEVENT
BEGIN:VTIMEZONE
TZID:America/Chicago
X-LIC-LOCATION:America/Chicago
BEGIN:STANDARD
DTSTART:20221106T010000
TZOFFSETFROM:-0500
TZOFFSETTO:-0600
TZNAME:CST
END:STANDARD
END:VTIMEZONE
END:VCALENDAR