BEGIN:VCALENDAR
VERSION:2.0
PRODID:-//wp-events-plugin.com//7.2.3.1//EN
TZID:America/Chicago
X-WR-TIMEZONE:America/Chicago
BEGIN:VEVENT
UID:168@runbeerrepeat.com
DTSTART;TZID=America/Chicago:20200319T183000
DTEND;TZID=America/Chicago:20200319T203000
DTSTAMP:20200316T205621Z
URL:https://runbeerrepeat.com/events/run-for-march-19th/
SUMMARY:CANCELED - Run for March 19th
DESCRIPTION:Our run for March 19th will be from The Lab in St Paul\n\n&nbsp
 \;\n\nDue to the COVID-19 outbreak\, our run is canceled.
CATEGORIES:Club Runs
LOCATION:The Lab\, 767 N Eustis St\, St Paul\, MN\, 55114\, United States
X-APPLE-STRUCTURED-LOCATION;VALUE=URI;X-ADDRESS=767 N Eustis St\, St Paul\,
  MN\, 55114\, United States;X-APPLE-RADIUS=100;X-TITLE=The Lab:geo:0,0
END:VEVENT
BEGIN:VTIMEZONE
TZID:America/Chicago
X-LIC-LOCATION:America/Chicago
BEGIN:DAYLIGHT
DTSTART:20200308T030000
TZOFFSETFROM:-0600
TZOFFSETTO:-0500
TZNAME:CDT
END:DAYLIGHT
END:VTIMEZONE
END:VCALENDAR