BEGIN:VCALENDAR
VERSION:2.0
PRODID:-//wp-events-plugin.com//7.2.3.1//EN
TZID:America/Chicago
X-WR-TIMEZONE:America/Chicago
BEGIN:VEVENT
UID:231@runbeerrepeat.com
DTSTART;TZID=America/Chicago:20221117T183000
DTEND;TZID=America/Chicago:20221117T203000
DTSTAMP:20221005T032516Z
URL:https://runbeerrepeat.com/events/run-for-november-17th/
SUMMARY:Run for November 17th
DESCRIPTION:Our run for November 17th will be from Broken Clock Brewing Coo
 perative
CATEGORIES:Club Runs
LOCATION:Broken Clock Brewing Cooperative\, 3134 California St NE\, Minneap
 olis\, MN\, 55418\, United States
X-APPLE-STRUCTURED-LOCATION;VALUE=URI;X-ADDRESS=3134 California St NE\, Min
 neapolis\, MN\, 55418\, United States;X-APPLE-RADIUS=100;X-TITLE=Broken Cl
 ock Brewing Cooperative:geo:0,0
END:VEVENT
BEGIN:VTIMEZONE
TZID:America/Chicago
X-LIC-LOCATION:America/Chicago
BEGIN:STANDARD
DTSTART:20221106T010000
TZOFFSETFROM:-0500
TZOFFSETTO:-0600
TZNAME:CST
END:STANDARD
END:VTIMEZONE
END:VCALENDAR